BEGIN:VCALENDAR
VERSION:2.0
PRODID:-//Evangelical Medical Fellowship of India - ECPv6.15.11//NONSGML v1.0//EN
CALSCALE:GREGORIAN
METHOD:PUBLISH
X-ORIGINAL-URL:https://emfi.in
X-WR-CALDESC:Events for Evangelical Medical Fellowship of India
REFRESH-INTERVAL;VALUE=DURATION:PT1H
X-Robots-Tag:noindex
X-PUBLISHED-TTL:PT1H
BEGIN:VTIMEZONE
TZID:Asia/Kolkata
BEGIN:STANDARD
TZOFFSETFROM:+0530
TZOFFSETTO:+0530
TZNAME:IST
DTSTART:20250101T000000
END:STANDARD
END:VTIMEZONE
BEGIN:VEVENT
DTSTART;VALUE=DATE:20260630
DTEND;VALUE=DATE:20260706
DTSTAMP:20260424T000301
CREATED:20260108T150140Z
LAST-MODIFIED:20260108T150140Z
UID:3883-1782777600-1783295999@emfi.in
SUMMARY:ICMDA world congress 2026
DESCRIPTION:
URL:https://emfi.in/event/icmda-world-congress-2026/
LOCATION:International Convention Centre (ICC Jeju)\, Jeju\, Korea\, Democratic People's Republic of
END:VEVENT
END:VCALENDAR